BEGIN:VCALENDAR
PRODID:http://wibix.de/infusions/pro_download_panel/download.php?did=27
VERSION:2.0
METHOD:PUBLISH
BEGIN:VEVENT
DTSTART:20201113T180000Z
UID:118@https://radio-hazzardofdarkness.de/
DTSTAMP:20201108T210621Z
DESCRIPTION:&lt;!--BREAK--&gt;\n[color=#009900]Moderation:[/color] Gesine &amp; Daemonenherz\n[img]http://www.radio-hazzardofdarkness.de/infusions/nivo_slider_panel/images/slides/Szene_Inside_TiefRot_Gesine_Daemoni.png[/img]
SUMMARY:SZENE INSIDE: mit &quot;TiefRot&quot;
CLASS:PUBLIC
END:VEVENT
END:VCALENDAR
